BEGIN:VCALENDAR
VERSION:2.0
PRODID:El Segundo Calendar Creator
METHOD:PUBLISH
BEGIN:VEVENT
DTSTAMP:20240705T114717
DTSTART:20240711T180000
DTEND:20240711T183000
SUMMARY:Beach Blanket Family Storytime
DESCRIPTION:<p>July 11th, 6-6:30 pm Sue Carter Community Room&nbsp;</p><p>Join us for fun stories, songs and more!<br>Beach towels or blankets are welcome.<br>Family storytime is for children of all ages and their caregiver(s).</p><div>Children 8 and under must be accompanied by an adult caregiver. No registration required.</div>
X-ALT-DESC;FMTTYPE=text/html:<p>July 11th, 6-6:30 pm Sue Carter Community Room&nbsp;</p><p>Join us for fun stories, songs and more!<br>Beach towels or blankets are welcome.<br>Family storytime is for children of all ages and their caregiver(s).</p><div>Children 8 and under must be accompanied by an adult caregiver. No registration required.</div>
LOCATION:El Segundo Public Library\, 111 W. Mariposa Avenue El Segundo\, California 90245
CLASS:PUBLIC
END:VEVENT
END:VCALENDAR
