BEGIN:VCALENDAR
VERSION:2.0
PRODID:El Segundo Calendar Creator
METHOD:PUBLISH
BEGIN:VEVENT
DTSTAMP:20240612T102149
DTSTART:20240620T110000
DTEND:20240620T120000
SUMMARY:Juneteenth Musical Storytime
DESCRIPTION:<p>Juneteenth Musical Storytime<br>with Kymberly Stewart- Children's Singer/Songwriter</p><p>All Ages<br>Thursday, June 20th</p><p>Children under 8 must be accompanied by a caregiver.&nbsp;</p><p>Sue Carter Community Room&nbsp;<br>111 W Mariposa Ave, CA 90245</p><p>&nbsp;</p>
X-ALT-DESC;FMTTYPE=text/html:<p>Juneteenth Musical Storytime<br>with Kymberly Stewart- Children's Singer/Songwriter</p><p>All Ages<br>Thursday, June 20th</p><p>Children under 8 must be accompanied by a caregiver.&nbsp;</p><p>Sue Carter Community Room&nbsp;<br>111 W Mariposa Ave, CA 90245</p><p>&nbsp;</p>
LOCATION:El Segundo Public Library\, 111 W. Mariposa Avenue El Segundo\, California 90245
CLASS:PUBLIC
END:VEVENT
END:VCALENDAR
