BEGIN:VCALENDAR
VERSION:2.0
PRODID:El Segundo Calendar Creator
METHOD:PUBLISH
BEGIN:VEVENT
DTSTAMP:20240624T111340
DTSTART:20240626T150000
DTEND:20240626T170000
SUMMARY:Treasures in Tidepools - REGISTRATION FULL
DESCRIPTION:<p direction-ltr="" align-center="">Wednesday, June 26th, 2024<br>3:00-4:00 PM <span style="text-decoration: underline;"><strong>or</strong></span> 4:00-5:00 PM*<br>Sue Carter Community Room</p><p direction-ltr="" align-center="">Children will learn about animals that live in the surf through a hands-on experience with tidepools led by Cabrillo Marine Aquarium. This program is suitable for children 5-10 years old. Children age 8 and under must be accompanied by an adult.</p><p direction-ltr="" align-center=""><strong>*Registration is full.&nbsp; If you'd like to be put on the wait list for one session, please stop by the Youth Desk or call 310-524-2726.&nbsp;<br></strong><strong>Staff will contact you the day before if space becomes available.</strong></p><p direction-ltr="" align-center=""><div></div></p>
X-ALT-DESC;FMTTYPE=text/html:<p direction-ltr="" align-center="">Wednesday, June 26th, 2024<br>3:00-4:00 PM <span style="text-decoration: underline;"><strong>or</strong></span> 4:00-5:00 PM*<br>Sue Carter Community Room</p><p direction-ltr="" align-center="">Children will learn about animals that live in the surf through a hands-on experience with tidepools led by Cabrillo Marine Aquarium. This program is suitable for children 5-10 years old. Children age 8 and under must be accompanied by an adult.</p><p direction-ltr="" align-center=""><strong>*Registration is full.&nbsp; If you'd like to be put on the wait list for one session, please stop by the Youth Desk or call 310-524-2726.&nbsp;<br></strong><strong>Staff will contact you the day before if space becomes available.</strong></p><p direction-ltr="" align-center=""><div></div></p>
LOCATION:El Segundo Public Library\, 111 W. Mariposa Avenue El Segundo\, California 90245
CLASS:PUBLIC
END:VEVENT
END:VCALENDAR
