BEGIN:VCALENDAR
VERSION:2.0
PRODID:El Segundo Calendar Creator
METHOD:PUBLISH
BEGIN:VEVENT
DTSTAMP:20240530T082656
DTSTART:20240626T183000
DTEND:20240626T193000
SUMMARY:Evening Book Discussion Group
DESCRIPTION:<p>This month's book selection is ROMANTIC COMEDY by Curtis Sittenfeld.&nbsp; Copies for checkout are available at the Reference Desk while supplies last.&nbsp; The Book Discussion Group meets in the library's Community Room.</p><p>For more information, contact the Reference Desk at 310-524-2728.</p>
X-ALT-DESC;FMTTYPE=text/html:<p>This month's book selection is ROMANTIC COMEDY by Curtis Sittenfeld.&nbsp; Copies for checkout are available at the Reference Desk while supplies last.&nbsp; The Book Discussion Group meets in the library's Community Room.</p><p>For more information, contact the Reference Desk at 310-524-2728.</p>
LOCATION:El Segundo Public Library\, 111 W. Mariposa Avenue El Segundo\, California 90245
CLASS:PUBLIC
END:VEVENT
END:VCALENDAR
