BEGIN:VCALENDAR
VERSION:2.0
PRODID:El Segundo Calendar Creator
METHOD:PUBLISH
BEGIN:VEVENT
DTSTAMP:20240613T165529
DTSTART:20240613T110000
DTEND:20240613T113000
SUMMARY:Bilingual Spanish Storytime Hora de Cuentos Bilingüe
DESCRIPTION:<p pyzeja="" xp24nw="" panowq"="">Thursday, June 13, 2024</p><p pyzeja="" xp24nw"="">11:00 - 11:30 AM</p><p pyzeja="" xp24nw"="">Join us for songs, books and rhymes in Spanish and English! No registration required.</p><p pyzeja="" xp24nw"="">For ages 0-5 years &amp; adult caregiver. </p>
X-ALT-DESC;FMTTYPE=text/html:<p pyzeja="" xp24nw="" panowq"="">Thursday, June 13, 2024</p><p pyzeja="" xp24nw"="">11:00 - 11:30 AM</p><p pyzeja="" xp24nw"="">Join us for songs, books and rhymes in Spanish and English! No registration required.</p><p pyzeja="" xp24nw"="">For ages 0-5 years &amp; adult caregiver. </p>
LOCATION:El Segundo Public Library\, 111 W. Mariposa Avenue El Segundo\, California 90245
CLASS:PUBLIC
END:VEVENT
END:VCALENDAR
