BEGIN:VCALENDAR
VERSION:2.0
PRODID:El Segundo Calendar Creator
METHOD:PUBLISH
BEGIN:VEVENT
DTSTAMP:20240807T162222
DTSTART:20240814T153000
DTEND:20240814T161500
SUMMARY:Mad Science: Up, Up and Away!
DESCRIPTION:<p>Rescheduled Wednesday, August 14th, 2024&nbsp;<br>3:30 - 4:15 PM<br>Sue Carter Community Room</p><p>Join us for our Summer Reading Program finale “Up, Up and Away”with Mad Science!<br>Children will learn all about the science of air pressure in this engaging show.<br><br>No registration required. Suitable for children ages 5-10 years old. Children age 8 and under must be accompanied by an adult caregiver.</p>
X-ALT-DESC;FMTTYPE=text/html:<p>Rescheduled Wednesday, August 14th, 2024&nbsp;<br>3:30 - 4:15 PM<br>Sue Carter Community Room</p><p>Join us for our Summer Reading Program finale “Up, Up and Away”with Mad Science!<br>Children will learn all about the science of air pressure in this engaging show.<br><br>No registration required. Suitable for children ages 5-10 years old. Children age 8 and under must be accompanied by an adult caregiver.</p>
LOCATION:El Segundo Public Library\, 111 W. Mariposa Avenue El Segundo\, California 90245
CLASS:PUBLIC
END:VEVENT
END:VCALENDAR
