BEGIN:VCALENDAR
VERSION:2.0
PRODID:El Segundo Calendar Creator
METHOD:PUBLISH
BEGIN:VEVENT
DTSTAMP:20240528T151728
DTSTART:20240619T100000
DTEND:20240619T102000
SUMMARY:Baby/Toddler Storytime
DESCRIPTION:<p>Wednesdays, June 19 - August 7, 2024<br>10:00 - 10:20 AM <strong><span style="text-decoration: underline;">or</span></strong> 10:30 - 10:50 AM*<br><br>Engage with your little one by enjoying songs,&nbsp;<br>rhymes and age-appropriate books together!&nbsp;&nbsp;<br>For ages 0-3 years &amp; adult caregiver.<br><br><strong>*Please plan on attending one Storytime since the same Storytime is offered twice.</strong></p><p direction-ltr="" align-center="" para-style-body"="">*Space is limited. Tickets are required for Storytimes. </p><p direction-ltr="" align-center="" para-style-body"="">Tickets are available 15 minutes before the start of each program at the Youth Desk. Due to popularity of Storytimes, tickets may not be reserved or set aside.</p>
X-ALT-DESC;FMTTYPE=text/html:<p>Wednesdays, June 19 - August 7, 2024<br>10:00 - 10:20 AM <strong><span style="text-decoration: underline;">or</span></strong> 10:30 - 10:50 AM*<br><br>Engage with your little one by enjoying songs,&nbsp;<br>rhymes and age-appropriate books together!&nbsp;&nbsp;<br>For ages 0-3 years &amp; adult caregiver.<br><br><strong>*Please plan on attending one Storytime since the same Storytime is offered twice.</strong></p><p direction-ltr="" align-center="" para-style-body"="">*Space is limited. Tickets are required for Storytimes. </p><p direction-ltr="" align-center="" para-style-body"="">Tickets are available 15 minutes before the start of each program at the Youth Desk. Due to popularity of Storytimes, tickets may not be reserved or set aside.</p>
LOCATION:El Segundo Public Library\, 111 W. Mariposa Avenue El Segundo\, California 90245
CLASS:PUBLIC
END:VEVENT
END:VCALENDAR
