BEGIN:VCALENDAR
VERSION:2.0
PRODID:El Segundo Calendar Creator
METHOD:PUBLISH
BEGIN:VEVENT
DTSTAMP:20240528T083953
DTSTART:20240608T100000
DTEND:20240608T113000
SUMMARY:Book Buzz: Summer Reading Picks
DESCRIPTION:<p>Penguin Random House representative Liz Camfiord presents some of the hottest books of the summer to our library patrons in this FREE program.&nbsp; Reserve your seat by contacting the Reference Desk at 310-524-2728.</p><p>View the flyer <a href="https://www.elsegundolibrary.org/home/showdocument?id=8794&amp;t=638524820957855930" target="_blank">here</a> for more details.</p>
X-ALT-DESC;FMTTYPE=text/html:<p>Penguin Random House representative Liz Camfiord presents some of the hottest books of the summer to our library patrons in this FREE program.&nbsp; Reserve your seat by contacting the Reference Desk at 310-524-2728.</p><p>View the flyer <a href="https://www.elsegundolibrary.org/home/showdocument?id=8794&amp;t=638524820957855930" target="_blank">here</a> for more details.</p>
LOCATION:El Segundo Public Library\, 111 W. Mariposa Avenue El Segundo\, California 90245
CLASS:PUBLIC
END:VEVENT
END:VCALENDAR
