BEGIN:VCALENDAR
VERSION:2.0
PRODID:El Segundo Calendar Creator
METHOD:PUBLISH
BEGIN:VEVENT
DTSTAMP:20240409T155049
DTSTART:20240418T180000
DTEND:20240418T200000
SUMMARY:Poetry Writing & Book Making Workshop
DESCRIPTION:<p>Participants in this workshop will craft an original poem under the guidance of El Segundo Poet Laureate Hope Anita Smith.&nbsp; Following, they will work with visual artist Natalie Strong to produce a handmade book to present their poems.&nbsp; Suitable for ages 18 and up.</p><p>You can view the flyer<a href="https://www.elsegundolibrary.org/home/showdocument?id=8566&amp;t=638482741214532617" target="_blank"> here.</a></p><p>&nbsp;</p><p>&nbsp;</p><p>&nbsp;</p><p>&nbsp;</p>
X-ALT-DESC;FMTTYPE=text/html:<p>Participants in this workshop will craft an original poem under the guidance of El Segundo Poet Laureate Hope Anita Smith.&nbsp; Following, they will work with visual artist Natalie Strong to produce a handmade book to present their poems.&nbsp; Suitable for ages 18 and up.</p><p>You can view the flyer<a href="https://www.elsegundolibrary.org/home/showdocument?id=8566&amp;t=638482741214532617" target="_blank"> here.</a></p><p>&nbsp;</p><p>&nbsp;</p><p>&nbsp;</p><p>&nbsp;</p>
LOCATION:El Segundo Public Library\, 111 W. Mariposa Avenue El Segundo\, California 90245
CLASS:PUBLIC
END:VEVENT
END:VCALENDAR
