BEGIN:VCALENDAR
VERSION:2.0
PRODID:El Segundo Calendar Creator
METHOD:PUBLISH
BEGIN:VEVENT
DTSTAMP:20240328T122629
DTSTART:20240409T151500
DTEND:20240409T161500
SUMMARY:Craft Program for Teens
DESCRIPTION:<p>In honor of National Library Week teens can stop by and make Book Locket Necklaces.</p><p>3:15pm-4:15pm<br>Sue Carter Community Room<br>For Teens 12-17 years old only.<br>While supplies last.</p><p></p>
X-ALT-DESC;FMTTYPE=text/html:<p>In honor of National Library Week teens can stop by and make Book Locket Necklaces.</p><p>3:15pm-4:15pm<br>Sue Carter Community Room<br>For Teens 12-17 years old only.<br>While supplies last.</p><p></p>
LOCATION:El Segundo Public Library\, 111 W. Mariposa Avenue El Segundo\, California 90245
CLASS:PUBLIC
END:VEVENT
END:VCALENDAR
