BEGIN:VCALENDAR
VERSION:2.0
PRODID:El Segundo Calendar Creator
METHOD:PUBLISH
BEGIN:VEVENT
DTSTAMP:20240328T120121
DTSTART:20240424T183000
DTEND:20240424T193000
SUMMARY:Evening Book Discussion Group
DESCRIPTION:<p>The Evening Book Discussion Group will feature <strong>The Henna Artist by Alka Joshi</strong> as the April, 2024 selection and will meet in the Library's Community Room.</p><p>Books are available at the Reference Desk for checkout while supplies last.&nbsp; Please contact the Reference Desk at 310-524-2728 for more information.</p><p></p>
X-ALT-DESC;FMTTYPE=text/html:<p>The Evening Book Discussion Group will feature <strong>The Henna Artist by Alka Joshi</strong> as the April, 2024 selection and will meet in the Library's Community Room.</p><p>Books are available at the Reference Desk for checkout while supplies last.&nbsp; Please contact the Reference Desk at 310-524-2728 for more information.</p><p></p>
LOCATION:El Segundo Public Library\, 111 W. Mariposa Avenue El Segundo\, California 90245
CLASS:PUBLIC
END:VEVENT
END:VCALENDAR
