BEGIN:VCALENDAR
VERSION:2.0
PRODID:El Segundo Calendar Creator
METHOD:PUBLISH
BEGIN:VEVENT
DTSTAMP:20240410T153503
DTSTART:20240413T140000
DTEND:20240413T153000
SUMMARY:Yuki Shibamoto Instrumental Performance
DESCRIPTION:<p>Instrumentalist Yuki Shibamoto will perform classical, popular and original music as part of the El Segundo Public Library’s celebration of National Library Week.&nbsp; Yuki’s FREE concert will take place on Saturday, April 13<sup>th</sup> from 2:00 to 3:30 p.m. in the library’s Reading Lounge on the main floor.</p><p>Yuki Shibamoto is a Los Angeles-based Japanese recorder player, who studyed under world-famous recorder player Minoru Yoshizawa for over 25 years.&nbsp; Yuki has won the gold prize in the solo artist category in the Japanese Nationwide Recorder Competition three times.</p><p>Yuki creates recorder music from subjects such as art, landscapes, people and sunlight. &nbsp;She collaborates with artists and galleries, and makes music videos as part of her own project "MUSIC from ART."&nbsp; You can learn more about her by viewing her website: https://www.yukirecordersounds.com/.</p><p>The Library is located at 111 West Mariposa Avenue (at Main Street) in El Segundo.&nbsp;&nbsp; Please contact the References Desk at 310-524-2728 for more information about this event.</p><p>You may view the flyer<a href="https://www.elsegundolibrary.org/home/showdocument?id=8532&amp;t=638470476086102984" target="_blank"> here.</a></p>
X-ALT-DESC;FMTTYPE=text/html:<p>Instrumentalist Yuki Shibamoto will perform classical, popular and original music as part of the El Segundo Public Library’s celebration of National Library Week.&nbsp; Yuki’s FREE concert will take place on Saturday, April 13<sup>th</sup> from 2:00 to 3:30 p.m. in the library’s Reading Lounge on the main floor.</p><p>Yuki Shibamoto is a Los Angeles-based Japanese recorder player, who studyed under world-famous recorder player Minoru Yoshizawa for over 25 years.&nbsp; Yuki has won the gold prize in the solo artist category in the Japanese Nationwide Recorder Competition three times.</p><p>Yuki creates recorder music from subjects such as art, landscapes, people and sunlight. &nbsp;She collaborates with artists and galleries, and makes music videos as part of her own project "MUSIC from ART."&nbsp; You can learn more about her by viewing her website: https://www.yukirecordersounds.com/.</p><p>The Library is located at 111 West Mariposa Avenue (at Main Street) in El Segundo.&nbsp;&nbsp; Please contact the References Desk at 310-524-2728 for more information about this event.</p><p>You may view the flyer<a href="https://www.elsegundolibrary.org/home/showdocument?id=8532&amp;t=638470476086102984" target="_blank"> here.</a></p>
LOCATION:
CLASS:PUBLIC
END:VEVENT
END:VCALENDAR
