BEGIN:VCALENDAR
VERSION:2.0
PRODID:El Segundo Calendar Creator
METHOD:PUBLISH
BEGIN:VEVENT
DTSTAMP:20240313T095712
DTSTART:20240424T100000
DTEND:20240424T104500
SUMMARY:Baila Baila Bilingual Concert
DESCRIPTION:<p direction-ltr="" align-start="" para-style-body"="">Wednesday, April 24th, 2024<br>10:00-10:45 AM<br>Sue Carter community room</p><p>Celebrate El día de los niños with a bilingual Spanish and English concert featuring Baila Baila! Children will sing and dance along in this interactive program.</p><p>This program is suitable for children ages 0-5 and their adult caregiver.&nbsp;<br>No registration is required.&nbsp;</p>
X-ALT-DESC;FMTTYPE=text/html:<p direction-ltr="" align-start="" para-style-body"="">Wednesday, April 24th, 2024<br>10:00-10:45 AM<br>Sue Carter community room</p><p>Celebrate El día de los niños with a bilingual Spanish and English concert featuring Baila Baila! Children will sing and dance along in this interactive program.</p><p>This program is suitable for children ages 0-5 and their adult caregiver.&nbsp;<br>No registration is required.&nbsp;</p>
LOCATION:El Segundo Public Library\, 111 W. Mariposa Avenue El Segundo\, California 90245
CLASS:PUBLIC
END:VEVENT
END:VCALENDAR
