BEGIN:VCALENDAR
VERSION:2.0
PRODID:El Segundo Calendar Creator
METHOD:PUBLISH
BEGIN:VEVENT
DTSTAMP:20240313T095128
DTSTART:20240522T153000
DTEND:20240522T161500
SUMMARY:Folktales with Shadow Puppets
DESCRIPTION:<p direction-ltr="" align-center="" para-style-body"="">3:30PM-4:15PM<br>Sue Carter Community Room</p><p direction-ltr="" align-center="" para-style-body"="">Celebrate Asian American Pacific Islander Heritage Month with author Sunny Seki’s “Sharing Folktales with Shadow Puppets” program! Children will listen to Sunny’s folktales and learn how puppets and sets are made. No registration is required. </p><p direction-ltr="" align-center="" para-style-body"="">This program is suitable for children ages 5-10 years old. </p><p direction-ltr="" align-center="" para-style-body"=""> Children age 8 and under must be accompanied by an adult.</p>
X-ALT-DESC;FMTTYPE=text/html:<p direction-ltr="" align-center="" para-style-body"="">3:30PM-4:15PM<br>Sue Carter Community Room</p><p direction-ltr="" align-center="" para-style-body"="">Celebrate Asian American Pacific Islander Heritage Month with author Sunny Seki’s “Sharing Folktales with Shadow Puppets” program! Children will listen to Sunny’s folktales and learn how puppets and sets are made. No registration is required. </p><p direction-ltr="" align-center="" para-style-body"="">This program is suitable for children ages 5-10 years old. </p><p direction-ltr="" align-center="" para-style-body"=""> Children age 8 and under must be accompanied by an adult.</p>
LOCATION:El Segundo Public Library\, 111 W. Mariposa Avenue El Segundo\, California 90245
CLASS:PUBLIC
END:VEVENT
END:VCALENDAR
