BEGIN:VCALENDAR
VERSION:2.0
PRODID:El Segundo Calendar Creator
METHOD:PUBLISH
BEGIN:VEVENT
DTSTAMP:20240425T154514
DTSTART:20240501T100000
DTEND:20240501T102000
SUMMARY:*Canceled* Baby/Toddler Storytime
DESCRIPTION:Canceled due to city council function.
X-ALT-DESC;FMTTYPE=text/html:Canceled due to city council function.
LOCATION:El Segundo Public Library\, 111 W. Mariposa Avenue El Segundo\, California 90245
CLASS:PUBLIC
END:VEVENT
END:VCALENDAR
