BEGIN:VCALENDAR
VERSION:2.0
PRODID:El Segundo Calendar Creator
METHOD:PUBLISH
BEGIN:VEVENT
DTSTAMP:20240216T110026
DTSTART:20240219T000000
DTEND:20240219T235900
SUMMARY:The Library is Closed for President's Day
DESCRIPTION:The Library will be closed for President's Day.
X-ALT-DESC;FMTTYPE=text/html:The Library will be closed for President's Day.
LOCATION:
CLASS:PUBLIC
END:VEVENT
END:VCALENDAR
