BEGIN:VCALENDAR
VERSION:2.0
PRODID:El Segundo Calendar Creator
METHOD:PUBLISH
BEGIN:VEVENT
DTSTAMP:20240208T172601
DTSTART:20240221T183000
DTEND:20240221T200000
SUMMARY:El Segundo Poet Laureate "Thank You" Reception & Poetry Reading
DESCRIPTION:Join us for an evening of live poetry reading and book signings as we celebrate the contributions of Hope Anita Smith during her time as Poet Laureate.&nbsp; Held in the Sue Carter Community Room, a Meet &amp; Greet with refreshments will be from 6:30-6:45pm.&nbsp; Poetry readings by Hope Anita Smith and community poets will be from 6:45-7:30pm.&nbsp; The last half hour (7:30-8pm) consists of a book signing with our Poet Laureate.
X-ALT-DESC;FMTTYPE=text/html:Join us for an evening of live poetry reading and book signings as we celebrate the contributions of Hope Anita Smith during her time as Poet Laureate.&nbsp; Held in the Sue Carter Community Room, a Meet &amp; Greet with refreshments will be from 6:30-6:45pm.&nbsp; Poetry readings by Hope Anita Smith and community poets will be from 6:45-7:30pm.&nbsp; The last half hour (7:30-8pm) consists of a book signing with our Poet Laureate.
LOCATION:El Segundo Public Library\, 111 W. Mariposa Avenue El Segundo\, California 90245
CLASS:PUBLIC
END:VEVENT
END:VCALENDAR
