BEGIN:VCALENDAR
VERSION:2.0
PRODID:El Segundo Calendar Creator
METHOD:PUBLISH
BEGIN:VEVENT
DTSTAMP:20240207T114132
DTSTART:20240212T150000
DTEND:20240212T210000
SUMMARY:Library Closes at 3:00pm
DESCRIPTION:<p>The library will close for staff training at 3:00 p.m. on Monday, February 12th.&nbsp;</p><p direction-ltr="" align-center="" para-style-body"="">Regular business hours will resume on Tuesday, February 13th. </p><p direction-ltr="" align-center="" para-style-body"="">Thank you.</p>
X-ALT-DESC;FMTTYPE=text/html:<p>The library will close for staff training at 3:00 p.m. on Monday, February 12th.&nbsp;</p><p direction-ltr="" align-center="" para-style-body"="">Regular business hours will resume on Tuesday, February 13th. </p><p direction-ltr="" align-center="" para-style-body"="">Thank you.</p>
LOCATION:El Segundo Public Library\, 111 W. Mariposa Avenue El Segundo\, California 90245
CLASS:PUBLIC
END:VEVENT
END:VCALENDAR
