BEGIN:VCALENDAR
VERSION:2.0
PRODID:El Segundo Calendar Creator
METHOD:PUBLISH
BEGIN:VEVENT
DTSTAMP:20240204T190237
DTSTART:20240205T000000
DTEND:20240205T235900
SUMMARY:The Library Is Closed
DESCRIPTION:Due to severe weather, the El Segundo Public Library will be closed Monday, February 5, 2024.&nbsp;&nbsp;
X-ALT-DESC;FMTTYPE=text/html:Due to severe weather, the El Segundo Public Library will be closed Monday, February 5, 2024.&nbsp;&nbsp;
LOCATION:
CLASS:PUBLIC
END:VEVENT
END:VCALENDAR
