BEGIN:VCALENDAR
VERSION:2.0
PRODID:El Segundo Calendar Creator
METHOD:PUBLISH
BEGIN:VEVENT
DTSTAMP:20240131T172833
DTSTART:20240224T140000
DTEND:20240224T153000
SUMMARY:Jan & Jill:  From the Heartland to Hollywood
DESCRIPTION:<p>Born and bred in Kansas, Jan Bunker and Jill Jaxx made their musical dreams come true by traveling west to Southern California. They will discuss and sign their newly-published memoir<b><i> Which One Are You? Twin Tales: From the Heartland to Hollywood. </i></b>An accompanying slideshow includes photographs and videos from their careers in the entertainment industry. Enjoy clips of their appearances on <b>The Red Skelton Show, The Carol Burnett Show, Happy Days and American Bandstand </b>as well as live concert performances.</p><p>This FREE event will take place in the library's Community Room.&nbsp; Copies of their book will be available for purchase.</p><p>Contact the Reference Desk at 310-524-2728 for more information.</p><p>Please click <a href="https://www.elsegundolibrary.org/home/showdocument?id=8111&amp;t=638423186725751173" target="_blank">HERE</a> to view the flyer</p>
X-ALT-DESC;FMTTYPE=text/html:<p>Born and bred in Kansas, Jan Bunker and Jill Jaxx made their musical dreams come true by traveling west to Southern California. They will discuss and sign their newly-published memoir<b><i> Which One Are You? Twin Tales: From the Heartland to Hollywood. </i></b>An accompanying slideshow includes photographs and videos from their careers in the entertainment industry. Enjoy clips of their appearances on <b>The Red Skelton Show, The Carol Burnett Show, Happy Days and American Bandstand </b>as well as live concert performances.</p><p>This FREE event will take place in the library's Community Room.&nbsp; Copies of their book will be available for purchase.</p><p>Contact the Reference Desk at 310-524-2728 for more information.</p><p>Please click <a href="https://www.elsegundolibrary.org/home/showdocument?id=8111&amp;t=638423186725751173" target="_blank">HERE</a> to view the flyer</p>
LOCATION:El Segundo Public Library\, 111 W. Mariposa Avenue El Segundo\, California 90245
CLASS:PUBLIC
END:VEVENT
END:VCALENDAR
