BEGIN:VCALENDAR
VERSION:2.0
PRODID:El Segundo Calendar Creator
METHOD:PUBLISH
BEGIN:VEVENT
DTSTAMP:20240116T081011
DTSTART:20240118T140000
DTEND:20240118T150000
SUMMARY:Canceled - City Council Finance Committee Meeting
DESCRIPTION:<p>The City of El Segundo Finance Committee Regular Meeting scheduled for Thursday, January 18th at 2 p.m. has been canceled due to lack of items to discuss.&nbsp;</p><p>&nbsp;The next meeting is scheduled for February 15, 2024, at 2 p.m.</p>
X-ALT-DESC;FMTTYPE=text/html:<p>The City of El Segundo Finance Committee Regular Meeting scheduled for Thursday, January 18th at 2 p.m. has been canceled due to lack of items to discuss.&nbsp;</p><p>&nbsp;The next meeting is scheduled for February 15, 2024, at 2 p.m.</p>
LOCATION:350 Main Street (West Conference Room)\, 350 Main Street El Segundo\, California 90245
CLASS:PUBLIC
END:VEVENT
END:VCALENDAR
