BEGIN:VCALENDAR
VERSION:2.0
PRODID:El Segundo Calendar Creator
METHOD:PUBLISH
BEGIN:VEVENT
DTSTAMP:20231227T135223
DTSTART:20240101T000000
DTEND:20240102T235900
SUMMARY:Closed for the New Year’s Eve and New Year’s Day Holidays
DESCRIPTION:The El Segundo Public Library will be closed Monday, January 1st, 2024 and Tuesday January 2nd, 2024 in observance of the New Year’s Eve and New Year’s Day holidays.
X-ALT-DESC;FMTTYPE=text/html:The El Segundo Public Library will be closed Monday, January 1st, 2024 and Tuesday January 2nd, 2024 in observance of the New Year’s Eve and New Year’s Day holidays.
LOCATION:El Segundo Public Library\, 111 W. Mariposa Avenue El Segundo\, California 90245
CLASS:PUBLIC
END:VEVENT
END:VCALENDAR
