BEGIN:VCALENDAR
VERSION:2.0
PRODID:El Segundo Calendar Creator
METHOD:PUBLISH
BEGIN:VEVENT
DTSTAMP:20231226T082627
DTSTART:20240131T183000
DTEND:20240131T193000
SUMMARY:Evening Book Discussion Group
DESCRIPTION:<p>The Evening Book Discussion Group will feature <strong>Lone Women</strong> by Victor Lavelle as the January, 2024 selection and will meet in the Library's Community Room.</p><p>Books are available at the Reference Desk for checkout while supplies last.&nbsp; Please contact the Reference Desk at 310-524-2728 for more information.</p>
X-ALT-DESC;FMTTYPE=text/html:<p>The Evening Book Discussion Group will feature <strong>Lone Women</strong> by Victor Lavelle as the January, 2024 selection and will meet in the Library's Community Room.</p><p>Books are available at the Reference Desk for checkout while supplies last.&nbsp; Please contact the Reference Desk at 310-524-2728 for more information.</p>
LOCATION:El Segundo Public Library\, 111 W. Mariposa Avenue El Segundo\, California 90245
CLASS:PUBLIC
END:VEVENT
END:VCALENDAR
