BEGIN:VCALENDAR
VERSION:2.0
PRODID:El Segundo Calendar Creator
METHOD:PUBLISH
BEGIN:VEVENT
DTSTAMP:20231130T193135
DTSTART:20231225T000000
DTEND:20231226T235900
SUMMARY:Closed for the Christmas Eve and Christmas Day Holidays
DESCRIPTION:The El Segundo Public Library will be closed Monday, December 25th and Tuesday, December 26th, 2023 in observance of the Christmas Eve and Christmas Day Holidays.&nbsp;
X-ALT-DESC;FMTTYPE=text/html:The El Segundo Public Library will be closed Monday, December 25th and Tuesday, December 26th, 2023 in observance of the Christmas Eve and Christmas Day Holidays.&nbsp;
LOCATION:El Segundo Public Library\, 111 W. Mariposa Avenue El Segundo\, California 90245
CLASS:PUBLIC
END:VEVENT
END:VCALENDAR
