BEGIN:VCALENDAR
VERSION:2.0
PRODID:El Segundo Calendar Creator
METHOD:PUBLISH
BEGIN:VEVENT
DTSTAMP:20231130T184922
DTSTART:20231207T150000
DTEND:20231207T210000
SUMMARY:Library Closes at 3:00pm
DESCRIPTION:In support of the Joy Around the World Festival the Library will close at 3:00pm.
X-ALT-DESC;FMTTYPE=text/html:In support of the Joy Around the World Festival the Library will close at 3:00pm.
LOCATION:
CLASS:PUBLIC
END:VEVENT
END:VCALENDAR
