BEGIN:VCALENDAR
VERSION:2.0
PRODID:El Segundo Calendar Creator
METHOD:PUBLISH
BEGIN:VEVENT
DTSTAMP:20231127T133609
DTSTART:20231214T173000
DTEND:20231214T193000
SUMMARY:2023 Menorah Lighting
DESCRIPTION:<p>El Segundo's annual menorah lighting ceremony will take place on Thursday, December 14th at 5:30 p.m. in City Hall Plaza. All are welcome to celebrate the festival of lights with potato latkes, jelly donuts, gifts for kids, and Hanukkah music and dancing.</p><p><iframe src="https://www.youtube.com/embed/nE0PsAMC5sM" width="400" allowfullscreen="" height="300" frameborder="0"></iframe></p>
X-ALT-DESC;FMTTYPE=text/html:<p>El Segundo's annual menorah lighting ceremony will take place on Thursday, December 14th at 5:30 p.m. in City Hall Plaza. All are welcome to celebrate the festival of lights with potato latkes, jelly donuts, gifts for kids, and Hanukkah music and dancing.</p><p><iframe src="https://www.youtube.com/embed/nE0PsAMC5sM" width="400" allowfullscreen="" height="300" frameborder="0"></iframe></p>
LOCATION:City Hall Plaza\, 350 Main Street El Segundo\, California 90245
CLASS:PUBLIC
END:VEVENT
END:VCALENDAR
