BEGIN:VCALENDAR
VERSION:2.0
PRODID:El Segundo Calendar Creator
METHOD:PUBLISH
BEGIN:VEVENT
DTSTAMP:20231127T133515
DTSTART:20231210T130000
DTEND:20231210T150000
SUMMARY:59th Annual El Segundo Holiday Parade
DESCRIPTION:<p></p>The El Segundo Chamber of Commerce will host the 59th annual El Segundo Holiday parade on Sunday, December 10th, 2023 from 1:00 p.m. to 3:00 p.m. The parade will travel down Main Street, and will feature our hometown Little League champions, marching bands, performers, floats, antique cars and a visit from Ol' Saint Nick! It's sure to be a joyous time and a fantastic way to get in the holiday spirit! Find all of the parade details <a href="https://www.elsegundochamber.com/el-segundo-holiday-parade-2023" target="_blank">here</a>.<p>&nbsp;</p><p>&nbsp;</p>
X-ALT-DESC;FMTTYPE=text/html:<p></p>The El Segundo Chamber of Commerce will host the 59th annual El Segundo Holiday parade on Sunday, December 10th, 2023 from 1:00 p.m. to 3:00 p.m. The parade will travel down Main Street, and will feature our hometown Little League champions, marching bands, performers, floats, antique cars and a visit from Ol' Saint Nick! It's sure to be a joyous time and a fantastic way to get in the holiday spirit! Find all of the parade details <a href="https://www.elsegundochamber.com/el-segundo-holiday-parade-2023" target="_blank">here</a>.<p>&nbsp;</p><p>&nbsp;</p>
LOCATION:
CLASS:PUBLIC
END:VEVENT
END:VCALENDAR
