BEGIN:VCALENDAR
VERSION:2.0
PRODID:El Segundo Calendar Creator
METHOD:PUBLISH
BEGIN:VEVENT
DTSTAMP:20231115T114717
DTSTART:20231214T183000
DTEND:20231214T200000
SUMMARY:A Jolly Good Time Holiday Event
DESCRIPTION:<p direction-ltr="" align-center="" para-style-body"="">The community is invited to participate in a FREE program to celebrate the winter holidays.&nbsp; Join us and have A JOLLY GOOD TIME!&nbsp; Thursday, December 14th, 6:30pm to 8:00pm in the Library's Sue Carter Community Room.</p><p direction-ltr="" align-center="" para-style-body"="">Please click <a href="https://www.elsegundolibrary.org/home/showdocument?id=7790&amp;t=638356452163664245" target="_blank">HERE </a>to view the festive flyer.</p>
X-ALT-DESC;FMTTYPE=text/html:<p direction-ltr="" align-center="" para-style-body"="">The community is invited to participate in a FREE program to celebrate the winter holidays.&nbsp; Join us and have A JOLLY GOOD TIME!&nbsp; Thursday, December 14th, 6:30pm to 8:00pm in the Library's Sue Carter Community Room.</p><p direction-ltr="" align-center="" para-style-body"="">Please click <a href="https://www.elsegundolibrary.org/home/showdocument?id=7790&amp;t=638356452163664245" target="_blank">HERE </a>to view the festive flyer.</p>
LOCATION:El Segundo Public Library\, 111 W. Mariposa Avenue El Segundo\, California 90245
CLASS:PUBLIC
END:VEVENT
END:VCALENDAR
