BEGIN:VCALENDAR
VERSION:2.0
PRODID:El Segundo Calendar Creator
METHOD:PUBLISH
BEGIN:VEVENT
DTSTAMP:20231103T151854
DTSTART:20231129T183000
DTEND:20231129T193000
SUMMARY:Evening Book Discussion Group
DESCRIPTION:The book chosen for November in the library's&nbsp;Evening Book Discussion Group is Hang the Moon by Jeannette Walls.&nbsp; You may call the reference desk at 310-524-2728 to inquire whether copies are available and/or can be put on hold for you.
X-ALT-DESC;FMTTYPE=text/html:The book chosen for November in the library's&nbsp;Evening Book Discussion Group is Hang the Moon by Jeannette Walls.&nbsp; You may call the reference desk at 310-524-2728 to inquire whether copies are available and/or can be put on hold for you.
LOCATION:El Segundo Public Library\, 111 W. Mariposa Avenue El Segundo\, California 90245
CLASS:PUBLIC
END:VEVENT
END:VCALENDAR
