BEGIN:VCALENDAR
VERSION:2.0
PRODID:El Segundo Calendar Creator
METHOD:PUBLISH
BEGIN:VEVENT
DTSTAMP:20231103T151745
DTSTART:20231115T183000
DTEND:20231115T193000
SUMMARY:Poetry Writing Workshops led by El Segundo Poet Laureate Hope Anita Smith
DESCRIPTION:The El Segundo Public Library presents an extension of Poetry Writing Workshops led by El Segundo Poet Laureate Hope Anita Smith.&nbsp; Please join us in the library's Rose Garden Room, ages 18 &amp; older, please.&nbsp; You may view the flyer <a href="https://www.elsegundolibrary.org/home/showdocument?id=7646&amp;t=638333012383228531" target="_blank">here.</a>
X-ALT-DESC;FMTTYPE=text/html:The El Segundo Public Library presents an extension of Poetry Writing Workshops led by El Segundo Poet Laureate Hope Anita Smith.&nbsp; Please join us in the library's Rose Garden Room, ages 18 &amp; older, please.&nbsp; You may view the flyer <a href="https://www.elsegundolibrary.org/home/showdocument?id=7646&amp;t=638333012383228531" target="_blank">here.</a>
LOCATION:El Segundo Public Library\, 111 W. Mariposa Avenue El Segundo\, California 90245
CLASS:PUBLIC
END:VEVENT
END:VCALENDAR
