BEGIN:VCALENDAR
VERSION:2.0
PRODID:El Segundo Calendar Creator
METHOD:PUBLISH
BEGIN:VEVENT
DTSTAMP:20231018T150238
DTSTART:20231030T153000
DTEND:20231030T170000
SUMMARY:Teen Halloween Movie
DESCRIPTION:<p>Monday, October 30th<br>3:30 PM-5:00 PM<br>Sue carter Community Room<br>For teens 12-17yrs old</p><p>Hey teens! Let’s celebrate Teentober at the library with a special spooky Halloween movie. Popcorn &amp; snacks will be provided.<br>No registration required.</p>
X-ALT-DESC;FMTTYPE=text/html:<p>Monday, October 30th<br>3:30 PM-5:00 PM<br>Sue carter Community Room<br>For teens 12-17yrs old</p><p>Hey teens! Let’s celebrate Teentober at the library with a special spooky Halloween movie. Popcorn &amp; snacks will be provided.<br>No registration required.</p>
LOCATION:El Segundo Public Library\, 111 W. Mariposa Avenue El Segundo\, California 90245
CLASS:PUBLIC
END:VEVENT
END:VCALENDAR
