BEGIN:VCALENDAR
VERSION:2.0
PRODID:El Segundo Calendar Creator
METHOD:PUBLISH
BEGIN:VEVENT
DTSTAMP:20231011T093351
DTSTART:20231110T000000
DTEND:20231110T235900
SUMMARY:The Library Will Be Closed
DESCRIPTION:The Library will be closed on Friday, November 10th in observance of Veteran's Day.
X-ALT-DESC;FMTTYPE=text/html:The Library will be closed on Friday, November 10th in observance of Veteran's Day.
LOCATION:El Segundo Public Library\, 111 W. Mariposa Avenue El Segundo\, California 90245
CLASS:PUBLIC
END:VEVENT
END:VCALENDAR
