BEGIN:VCALENDAR
VERSION:2.0
PRODID:El Segundo Calendar Creator
METHOD:PUBLISH
BEGIN:VEVENT
DTSTAMP:20231011T122000
DTSTART:20231019T130000
DTEND:20231019T210000
SUMMARY:Library Closes at 1:00pm
DESCRIPTION:The Library will close for staff training at 1:00 p.m. on Thursday, October 19.&nbsp; Regular business hours will resume on Friday, October 20. Thank you.
X-ALT-DESC;FMTTYPE=text/html:The Library will close for staff training at 1:00 p.m. on Thursday, October 19.&nbsp; Regular business hours will resume on Friday, October 20. Thank you.
LOCATION:El Segundo Public Library\, 111 W. Mariposa Avenue El Segundo\, California 90245
CLASS:PUBLIC
END:VEVENT
END:VCALENDAR
