BEGIN:VCALENDAR
VERSION:2.0
PRODID:El Segundo Calendar Creator
METHOD:PUBLISH
BEGIN:VEVENT
DTSTAMP:20231018T144426
DTSTART:20231025T183000
DTEND:20231025T193000
SUMMARY:Evening Book Discussion Group
DESCRIPTION:Join our Evening Book Discussion in the Sue Carter Community Room, featuring October's selection <strong>Lessons in Chemistry</strong> by Bonnie Garmus.&nbsp; Books are available at the Reference Desk to check out while supplies last.&nbsp; For more information, please visit call Julie Todd at 310-524-2729.
X-ALT-DESC;FMTTYPE=text/html:Join our Evening Book Discussion in the Sue Carter Community Room, featuring October's selection <strong>Lessons in Chemistry</strong> by Bonnie Garmus.&nbsp; Books are available at the Reference Desk to check out while supplies last.&nbsp; For more information, please visit call Julie Todd at 310-524-2729.
LOCATION:El Segundo Public Library\, 111 W. Mariposa Avenue El Segundo\, California 90245
CLASS:PUBLIC
END:VEVENT
END:VCALENDAR
