BEGIN:VCALENDAR
VERSION:2.0
PRODID:El Segundo Calendar Creator
METHOD:PUBLISH
BEGIN:VEVENT
DTSTAMP:20231004T104622
DTSTART:20231028T133000
DTEND:20231028T153000
SUMMARY:Pumpkin Pool-ooza
DESCRIPTION:<p><p style="text-align: center;">&nbsp;</p><p style="text-align: center;" _rdeditor_exists="1">&nbsp;</p></p><p><div>Take a plunge in our floating pumpkin patch! Our annual Pumpkin Pool-ooza will be on Saturday, October 28<sup>th</sup>&nbsp;from 1:30 p.m. - 3:30 p.m. at the Aquatics Center.&nbsp;Come for the pumpkin pickin', stay for the pumpkin decorating, games raffles, and frightening good time!</div><div>&nbsp;</div><div>Space is limited so please reserve your space  on <a href="https://secure.rec1.com/CA/el-segundo-ca/catalog" target="_blank">www.esrec.org</a>. For more information, please call 310-524-2738.</div></p>
X-ALT-DESC;FMTTYPE=text/html:<p><p style="text-align: center;">&nbsp;</p><p style="text-align: center;" _rdeditor_exists="1">&nbsp;</p></p><p><div>Take a plunge in our floating pumpkin patch! Our annual Pumpkin Pool-ooza will be on Saturday, October 28<sup>th</sup>&nbsp;from 1:30 p.m. - 3:30 p.m. at the Aquatics Center.&nbsp;Come for the pumpkin pickin', stay for the pumpkin decorating, games raffles, and frightening good time!</div><div>&nbsp;</div><div>Space is limited so please reserve your space  on <a href="https://secure.rec1.com/CA/el-segundo-ca/catalog" target="_blank">www.esrec.org</a>. For more information, please call 310-524-2738.</div></p>
LOCATION:El Segundo Wiseburn Aquatics Center\, 2240 E. Grand Ave. El Segundo\, California 90245
CLASS:PUBLIC
END:VEVENT
END:VCALENDAR
