BEGIN:VCALENDAR
VERSION:2.0
PRODID:El Segundo Calendar Creator
METHOD:PUBLISH
BEGIN:VEVENT
DTSTAMP:20231018T144355
DTSTART:20231025T153000
DTEND:20231025T161500
SUMMARY:Wonderful Wednesdays
DESCRIPTION:<p direction-ltr="" align-center="" para-style-body"="">For children ages 5-10.<br>Meets in the Sue Carter Community Room.</p><p direction-ltr="" align-center="" para-style-body"="">Join your friends for fun staff led activities!<br>Activities may include stories, crafts, or scavenger hunts.</p><p direction-ltr="" align-center="" para-style-body"="">No registration is required.<br>Children under 8 must be accompanied by an adult caregiver.</p>
X-ALT-DESC;FMTTYPE=text/html:<p direction-ltr="" align-center="" para-style-body"="">For children ages 5-10.<br>Meets in the Sue Carter Community Room.</p><p direction-ltr="" align-center="" para-style-body"="">Join your friends for fun staff led activities!<br>Activities may include stories, crafts, or scavenger hunts.</p><p direction-ltr="" align-center="" para-style-body"="">No registration is required.<br>Children under 8 must be accompanied by an adult caregiver.</p>
LOCATION:El Segundo Public Library\, 111 W. Mariposa Avenue El Segundo\, California 90245
CLASS:PUBLIC
END:VEVENT
END:VCALENDAR
