BEGIN:VCALENDAR
VERSION:2.0
PRODID:El Segundo Calendar Creator
METHOD:PUBLISH
BEGIN:VEVENT
DTSTAMP:20230927T145438
DTSTART:20230927T183000
DTEND:20230927T193000
SUMMARY:Evening Book Discussion Group
DESCRIPTION:The library's selection for its Book Discussion is <strong>Symphony of Secrets</strong> by Brendan Slocumb.&nbsp; Copies are available to be checked out at the Reference Desk, while supplies last.&nbsp; For more information, call 310-524-2728.
X-ALT-DESC;FMTTYPE=text/html:The library's selection for its Book Discussion is <strong>Symphony of Secrets</strong> by Brendan Slocumb.&nbsp; Copies are available to be checked out at the Reference Desk, while supplies last.&nbsp; For more information, call 310-524-2728.
LOCATION:El Segundo Public Library\, 111 W. Mariposa Avenue El Segundo\, California 90245
CLASS:PUBLIC
END:VEVENT
END:VCALENDAR
