BEGIN:VCALENDAR
VERSION:2.0
PRODID:El Segundo Calendar Creator
METHOD:PUBLISH
BEGIN:VEVENT
DTSTAMP:20230807T130928
DTSTART:20230817T183000
DTEND:20230817T193000
SUMMARY:Library History Talk
DESCRIPTION:<p>What do you know about our library's beginnings? Spend an enjoyable hour learning about the early history of the El Segundo Public Library with knowledgeable El Segundo History Committee members and library staff. Photographs from the Archive will be viewed and memories will be shared. </p><p>For more information, contact Roz Templin at 310-524-2773.</p>
X-ALT-DESC;FMTTYPE=text/html:<p>What do you know about our library's beginnings? Spend an enjoyable hour learning about the early history of the El Segundo Public Library with knowledgeable El Segundo History Committee members and library staff. Photographs from the Archive will be viewed and memories will be shared. </p><p>For more information, contact Roz Templin at 310-524-2773.</p>
LOCATION:El Segundo Public Library\, 111 W. Mariposa Avenue El Segundo\, California 90245
CLASS:PUBLIC
END:VEVENT
END:VCALENDAR
