BEGIN:VCALENDAR
VERSION:2.0
PRODID:El Segundo Calendar Creator
METHOD:PUBLISH
BEGIN:VEVENT
DTSTAMP:20230802T091803
DTSTART:20230802T183000
DTEND:20230802T193000
SUMMARY:Art and Mindfulness with Dalila Paola Mendez
DESCRIPTION:<p>Come and hear BELONGING artist Dalila Paola Mendez speak about the works she is showcasing at ESMoA and The Library. After a lively artistic discussion, Dalila will lead a mindfulness workshop for attendees.</p><p> Admission: FREE</p><p>Please view PDF <a href="https://www.elsegundolibrary.org/home/showdocument?id=7317&amp;t=638265642229504216 " target="_blank">here.</a></p>
X-ALT-DESC;FMTTYPE=text/html:<p>Come and hear BELONGING artist Dalila Paola Mendez speak about the works she is showcasing at ESMoA and The Library. After a lively artistic discussion, Dalila will lead a mindfulness workshop for attendees.</p><p> Admission: FREE</p><p>Please view PDF <a href="https://www.elsegundolibrary.org/home/showdocument?id=7317&amp;t=638265642229504216 " target="_blank">here.</a></p>
LOCATION:El Segundo Public Library\, 111 W. Mariposa Avenue El Segundo\, California 90245
CLASS:PUBLIC
END:VEVENT
END:VCALENDAR
