BEGIN:VCALENDAR
VERSION:2.0
PRODID:El Segundo Calendar Creator
METHOD:PUBLISH
BEGIN:VEVENT
DTSTAMP:20230727T151416
DTSTART:20230816T150000
DTEND:20230816T153000
SUMMARY:Birthday Storytime
DESCRIPTION:Join us as we celebrate the library's 75th Birthday with a Birthday themed storytime &amp; craft! Light refreshments &amp; snacks will be provided.&nbsp;<br>No registration required.<br><br>Children under 8 must be accompanied by an adult.<br>For more information, please call 310-524-2799.
X-ALT-DESC;FMTTYPE=text/html:Join us as we celebrate the library's 75th Birthday with a Birthday themed storytime &amp; craft! Light refreshments &amp; snacks will be provided.&nbsp;<br>No registration required.<br><br>Children under 8 must be accompanied by an adult.<br>For more information, please call 310-524-2799.
LOCATION:El Segundo Public Library\, 111 W. Mariposa Avenue El Segundo\, California 90245
CLASS:PUBLIC
END:VEVENT
END:VCALENDAR
