BEGIN:VCALENDAR
VERSION:2.0
PRODID:El Segundo Calendar Creator
METHOD:PUBLISH
BEGIN:VEVENT
DTSTAMP:20230803T104429
DTSTART:20230826T100000
DTEND:20230826T170000
SUMMARY:El Segundo Public Library Diamond Jubilee Celebration
DESCRIPTION:<div>The Library will celebrate its 75th anniversary on Saturday, August 26th during its open hours of 10 a.m. to 5 p.m., with the following activities (click on the hyperlinked words for flyers.):</div><ul>    <li>Visit the History Room</li>    <li>Join the Friends of the Library</li>    <li>Make and view Library birthday cards</li>    <li>Contribute to and view the Diamond Jubilee scrapbook</li>    <li>See the new Limited Edition Anniversary library card design</li>    <li>Enjoy FREE refreshments</li>    <li>Art Walk artworks on exhibit</li>    <li><a href="https://www.elsegundolibrary.org/home/showdocument?id=7287&amp;t=638259609303473354" target="_blank">Music</a> and picnic in Library Park</li>    <li><a href="https://www.elsegundolibrary.org/home/showdocument?id=7269&amp;t=638254635140570000" target="_blank">Diana Nugit-Laufer</a> exhibit of assemblage works and dioramas with an artist talk presentation</li>    <li><a href="https://www.elsegundolibrary.org/home/showdocument?id=7271&amp;t=63825463514527000" target="_blank">View flyer here</a></li></ul>
X-ALT-DESC;FMTTYPE=text/html:<div>The Library will celebrate its 75th anniversary on Saturday, August 26th during its open hours of 10 a.m. to 5 p.m., with the following activities (click on the hyperlinked words for flyers.):</div><ul>    <li>Visit the History Room</li>    <li>Join the Friends of the Library</li>    <li>Make and view Library birthday cards</li>    <li>Contribute to and view the Diamond Jubilee scrapbook</li>    <li>See the new Limited Edition Anniversary library card design</li>    <li>Enjoy FREE refreshments</li>    <li>Art Walk artworks on exhibit</li>    <li><a href="https://www.elsegundolibrary.org/home/showdocument?id=7287&amp;t=638259609303473354" target="_blank">Music</a> and picnic in Library Park</li>    <li><a href="https://www.elsegundolibrary.org/home/showdocument?id=7269&amp;t=638254635140570000" target="_blank">Diana Nugit-Laufer</a> exhibit of assemblage works and dioramas with an artist talk presentation</li>    <li><a href="https://www.elsegundolibrary.org/home/showdocument?id=7271&amp;t=63825463514527000" target="_blank">View flyer here</a></li></ul>
LOCATION:El Segundo Public Library\, 111 W. Mariposa Avenue El Segundo\, California 90245
CLASS:PUBLIC
END:VEVENT
END:VCALENDAR
