BEGIN:VCALENDAR
VERSION:2.0
PRODID:El Segundo Calendar Creator
METHOD:PUBLISH
BEGIN:VEVENT
DTSTAMP:20230824T133058
DTSTART:20230805T100000
DTEND:20230805T170000
SUMMARY:Diana Nugit-Laufer Art Exhibition
DESCRIPTION:<p>View Fine Artist <a href="https://www.dianalauferart.com/" target="_blank">Diana Nugit-Laufer's</a> works of assemblage and intricate dioramas on display throughout the library during the month of August.</p><p> She will present an Artist Talk on Saturday, August 26th at 3:00 pm in the Sue Carter Community Room.&nbsp; You can view the flyer <a href="https://www.elsegundolibrary.org/home/showdocument?id=7269&amp;t=638254635140570000" target="_blank">here.</a></p>
X-ALT-DESC;FMTTYPE=text/html:<p>View Fine Artist <a href="https://www.dianalauferart.com/" target="_blank">Diana Nugit-Laufer's</a> works of assemblage and intricate dioramas on display throughout the library during the month of August.</p><p> She will present an Artist Talk on Saturday, August 26th at 3:00 pm in the Sue Carter Community Room.&nbsp; You can view the flyer <a href="https://www.elsegundolibrary.org/home/showdocument?id=7269&amp;t=638254635140570000" target="_blank">here.</a></p>
LOCATION:El Segundo Public Library\, 111 W. Mariposa Avenue El Segundo\, California 90245
CLASS:PUBLIC
END:VEVENT
END:VCALENDAR
