BEGIN:VCALENDAR
VERSION:2.0
PRODID:El Segundo Calendar Creator
METHOD:PUBLISH
BEGIN:VEVENT
DTSTAMP:20230726T113935
DTSTART:20230801T090000
DTEND:20230801T200000
SUMMARY:Diamond Jubilee Library Scrapbook Project
DESCRIPTION:<p direction-ltr="" align-center="" para-style-body"="">The Library is celebrating its 75th &nbsp;anniversary and to mark that milestone, we invite the community to come and make a special page to be included in the Diamond Jubilee Scrapbook.</p><p direction-ltr="" align-center="" para-style-body"="">A special room within the library is dedicated to this project beginning Tuesday, August 1 through Wednesday, August 30.&nbsp; Supplies are included. </p><p direction-ltr="" align-center="" para-style-body"="">Please contact the Reference Desk at 310-524-2728 if you have any questions.&nbsp;&nbsp;</p>
X-ALT-DESC;FMTTYPE=text/html:<p direction-ltr="" align-center="" para-style-body"="">The Library is celebrating its 75th &nbsp;anniversary and to mark that milestone, we invite the community to come and make a special page to be included in the Diamond Jubilee Scrapbook.</p><p direction-ltr="" align-center="" para-style-body"="">A special room within the library is dedicated to this project beginning Tuesday, August 1 through Wednesday, August 30.&nbsp; Supplies are included. </p><p direction-ltr="" align-center="" para-style-body"="">Please contact the Reference Desk at 310-524-2728 if you have any questions.&nbsp;&nbsp;</p>
LOCATION:El Segundo Public Library\, 111 W. Mariposa Avenue El Segundo\, California 90245
CLASS:PUBLIC
END:VEVENT
END:VCALENDAR
