BEGIN:VCALENDAR
VERSION:2.0
PRODID:El Segundo Calendar Creator
METHOD:PUBLISH
BEGIN:VEVENT
DTSTAMP:20230717T122502
DTSTART:20231113T120000
DTEND:20231113T130000
SUMMARY:Craft 'N Chat
DESCRIPTION:<p>Join other adults 18 and over for our crafting social hour from 12 noon to 1pm on the second and fourth Mondays of the month.&nbsp; Supplies are included but limited.&nbsp; You may contact the Reference Desk at 310-524-2728 or refdesk@elsegundo.org for more information.</p><p>&nbsp;</p>
X-ALT-DESC;FMTTYPE=text/html:<p>Join other adults 18 and over for our crafting social hour from 12 noon to 1pm on the second and fourth Mondays of the month.&nbsp; Supplies are included but limited.&nbsp; You may contact the Reference Desk at 310-524-2728 or refdesk@elsegundo.org for more information.</p><p>&nbsp;</p>
LOCATION:El Segundo Public Library\, 111 W. Mariposa Avenue El Segundo\, California 90245
CLASS:PUBLIC
END:VEVENT
END:VCALENDAR
