BEGIN:VCALENDAR
VERSION:2.0
PRODID:El Segundo Calendar Creator
METHOD:PUBLISH
BEGIN:VEVENT
DTSTAMP:20230628T174159
DTSTART:20230802T150000
DTEND:20230802T154500
SUMMARY:Summer Reading Finale with Bubblemania
DESCRIPTION:<p>Wednesday, August 2nd<br>3:00PM -3:45PM<br>Sue Carter Community Room<br>For children ages 5-12 years old</p><p>Bubblologists will perform and present the science and fun of bubbles with shimmering waves of soap films, rainbow bubbles, square bubbles, giant bubbles and much more! Children will learn about reflection, refraction, surface tension, and more. The grand finale will put participants inside of a giant bubble!</p><p direction-ltr="" align-center="" para-style-body"="">No registration required. Children under 8 must be accompanied by an adult. Questions? Please call 310-524-2726.</p>
X-ALT-DESC;FMTTYPE=text/html:<p>Wednesday, August 2nd<br>3:00PM -3:45PM<br>Sue Carter Community Room<br>For children ages 5-12 years old</p><p>Bubblologists will perform and present the science and fun of bubbles with shimmering waves of soap films, rainbow bubbles, square bubbles, giant bubbles and much more! Children will learn about reflection, refraction, surface tension, and more. The grand finale will put participants inside of a giant bubble!</p><p direction-ltr="" align-center="" para-style-body"="">No registration required. Children under 8 must be accompanied by an adult. Questions? Please call 310-524-2726.</p>
LOCATION:El Segundo Public Library\, 111 W. Mariposa Avenue El Segundo\, California 90245
CLASS:PUBLIC
END:VEVENT
END:VCALENDAR
