BEGIN:VCALENDAR
VERSION:2.0
PRODID:El Segundo Calendar Creator
METHOD:PUBLISH
BEGIN:VEVENT
DTSTAMP:20230621T123444
DTSTART:20230612T110000
DTEND:20230819T163000
SUMMARY:Summer Beach Shuttle
DESCRIPTION:<p></p><p>&nbsp;Monday - Saturday 11:00 a.m. - 4:20 p.m.&nbsp;</p><p>The Beach Shuttle is back! This summer the shuttle will run from June 12th to August 19th. Ridership is free with a valid Rec ID. The shuttle runs on a continuous loop with stops in residential El Segundo. It then takes riders to El Porto Beach.</p><p>Beach Shuttle pick up locations include:&nbsp;</p><ul>    <li>Eucalyptus Drive &amp; Holly Avenue</li>    <li>Richmond Street&nbsp;&amp; Mariposa Avenue</li>    <li>Sheldon Street &amp; Imperial Avenue</li>    <li>Main Street &amp; Imperial Avenue</li>    <li>Richmond Street &amp; Grand Avenue</li>    <li>Virginia Street &amp; Grand Avenue</li></ul>
X-ALT-DESC;FMTTYPE=text/html:<p></p><p>&nbsp;Monday - Saturday 11:00 a.m. - 4:20 p.m.&nbsp;</p><p>The Beach Shuttle is back! This summer the shuttle will run from June 12th to August 19th. Ridership is free with a valid Rec ID. The shuttle runs on a continuous loop with stops in residential El Segundo. It then takes riders to El Porto Beach.</p><p>Beach Shuttle pick up locations include:&nbsp;</p><ul>    <li>Eucalyptus Drive &amp; Holly Avenue</li>    <li>Richmond Street&nbsp;&amp; Mariposa Avenue</li>    <li>Sheldon Street &amp; Imperial Avenue</li>    <li>Main Street &amp; Imperial Avenue</li>    <li>Richmond Street &amp; Grand Avenue</li>    <li>Virginia Street &amp; Grand Avenue</li></ul>
LOCATION:
CLASS:PUBLIC
END:VEVENT
END:VCALENDAR
