BEGIN:VCALENDAR
VERSION:2.0
PRODID:El Segundo Calendar Creator
METHOD:PUBLISH
BEGIN:VEVENT
DTSTAMP:20230517T151944
DTSTART:20230606T153000
DTEND:20230606T163000
SUMMARY:Crafteen
DESCRIPTION:Crafteen<br>(Teens 12-18yrs old)<br><br>Join us in the Sue Carter Community Room for a fun afternoon of making crafts!<br>All supplies are included. While crafts last.
X-ALT-DESC;FMTTYPE=text/html:Crafteen<br>(Teens 12-18yrs old)<br><br>Join us in the Sue Carter Community Room for a fun afternoon of making crafts!<br>All supplies are included. While crafts last.
LOCATION:El Segundo Public Library\, 111 W. Mariposa Avenue El Segundo\, California 90245
CLASS:PUBLIC
END:VEVENT
END:VCALENDAR
