BEGIN:VCALENDAR
VERSION:2.0
PRODID:El Segundo Calendar Creator
METHOD:PUBLISH
BEGIN:VEVENT
DTSTAMP:20230530T164336
DTSTART:20230614T150000
DTEND:20230614T154500
SUMMARY:Mad Science
DESCRIPTION:<p direction-ltr="" align-center="" para-style-body"="">&nbsp;</p><div unselectable="on" class="rrHandle rrSW" style="position: absolute; cursor: sw-resize; z-index: auto; height: 7px; width: 7px; top: 899.5px; left: 22.5px;"></div><div unselectable="on" class="rrHandle rrS" style="position: absolute; cursor: s-resize; z-index: auto; height: 7px; width: 7px; top: 899.5px; left: 363px;"></div><div unselectable="on" class="rrHandle rrSE" style="position: absolute; cursor: se-resize; z-index: auto; height: 7px; width: 7px; top: 899.5px; left: 703.5px;"></div><div unselectable="on" class="rrHandle rrE" style="position: absolute; cursor: e-resize; z-index: auto; height: 7px; width: 7px; top: 458.5px; left: 703.5px;"></div><div unselectable="on" class="rrHandle rrNE" style="position: absolute; cursor: ne-resize; z-index: auto; height: 7px; width: 7px; top: 17.5px; left: 703.5px;"></div><div unselectable="on" class="rrHandle rrN" style="position: absolute; cursor: n-resize; z-index: auto; height: 7px; width: 7px; top: 17.5px; left: 363px;"></div><div unselectable="on" class="rrHandle rrNW" style="position: absolute; cursor: nw-resize; z-index: auto; height: 7px; width: 7px; top: 17.5px; left: 22.5px;"></div><div unselectable="on" class="rrHandle rrW" style="position: absolute; cursor: w-resize; z-index: auto; height: 7px; width: 7px; top: 458.5px; left: 22.5px;"></div><p>Wednesday, June 14th<br>3:00pm-3:45pm<br>Sue Carter Community Room<br>For Children Ages 5-12 years old</p><p direction-ltr="" align-center="" para-style-body"="">Children ages 5-12 are invited to this interactive show full of fascinating science demonstrations about water conservation and the 3 states of matter. Volunteers will help the Mad Science instructor demonstrate surface tension, and how water is actually sticky! Get your H2O IQ flowing with Water Jeopardy!</p><p direction-ltr="" align-center="" para-style-body"=""> We'll make a splash with the dramatic bubble and fog finale!</p><p direction-ltr="" align-center="" para-style-body"="">No registration required. Children under 8 must be accompanied by an adult.</p><p direction-ltr="" align-center="" para-style-body"=""></p>
X-ALT-DESC;FMTTYPE=text/html:<p direction-ltr="" align-center="" para-style-body"="">&nbsp;</p><div unselectable="on" class="rrHandle rrSW" style="position: absolute; cursor: sw-resize; z-index: auto; height: 7px; width: 7px; top: 899.5px; left: 22.5px;"></div><div unselectable="on" class="rrHandle rrS" style="position: absolute; cursor: s-resize; z-index: auto; height: 7px; width: 7px; top: 899.5px; left: 363px;"></div><div unselectable="on" class="rrHandle rrSE" style="position: absolute; cursor: se-resize; z-index: auto; height: 7px; width: 7px; top: 899.5px; left: 703.5px;"></div><div unselectable="on" class="rrHandle rrE" style="position: absolute; cursor: e-resize; z-index: auto; height: 7px; width: 7px; top: 458.5px; left: 703.5px;"></div><div unselectable="on" class="rrHandle rrNE" style="position: absolute; cursor: ne-resize; z-index: auto; height: 7px; width: 7px; top: 17.5px; left: 703.5px;"></div><div unselectable="on" class="rrHandle rrN" style="position: absolute; cursor: n-resize; z-index: auto; height: 7px; width: 7px; top: 17.5px; left: 363px;"></div><div unselectable="on" class="rrHandle rrNW" style="position: absolute; cursor: nw-resize; z-index: auto; height: 7px; width: 7px; top: 17.5px; left: 22.5px;"></div><div unselectable="on" class="rrHandle rrW" style="position: absolute; cursor: w-resize; z-index: auto; height: 7px; width: 7px; top: 458.5px; left: 22.5px;"></div><p>Wednesday, June 14th<br>3:00pm-3:45pm<br>Sue Carter Community Room<br>For Children Ages 5-12 years old</p><p direction-ltr="" align-center="" para-style-body"="">Children ages 5-12 are invited to this interactive show full of fascinating science demonstrations about water conservation and the 3 states of matter. Volunteers will help the Mad Science instructor demonstrate surface tension, and how water is actually sticky! Get your H2O IQ flowing with Water Jeopardy!</p><p direction-ltr="" align-center="" para-style-body"=""> We'll make a splash with the dramatic bubble and fog finale!</p><p direction-ltr="" align-center="" para-style-body"="">No registration required. Children under 8 must be accompanied by an adult.</p><p direction-ltr="" align-center="" para-style-body"=""></p>
LOCATION:El Segundo Public Library\, 111 W. Mariposa Avenue El Segundo\, California 90245
CLASS:PUBLIC
END:VEVENT
END:VCALENDAR
