BEGIN:VCALENDAR
VERSION:2.0
PRODID:El Segundo Calendar Creator
METHOD:PUBLISH
BEGIN:VEVENT
DTSTAMP:20230412T144711
DTSTART:20230523T110000
DTEND:20230523T120000
SUMMARY:Staying Safe & Independent with Fall Prevention Educator Ines Bryan
DESCRIPTION:<p>Join Fall Prevention Educator Ines Bryan as she shares valuable information about Falls Prevention and Staying Safe and Independent.&nbsp; In her presentation, participants will take a personal risk assessment, and learn how to live independently with fewer fall risks.</p><p>Questions? Please call the Reference Desk at 310-524-2728.</p><p>Please click<a href="https://www.elsegundolibrary.org/home/showdocument?id=6847&amp;t=638169060359096427" target="_blank"> HERE</a> to view the flyer.</p>
X-ALT-DESC;FMTTYPE=text/html:<p>Join Fall Prevention Educator Ines Bryan as she shares valuable information about Falls Prevention and Staying Safe and Independent.&nbsp; In her presentation, participants will take a personal risk assessment, and learn how to live independently with fewer fall risks.</p><p>Questions? Please call the Reference Desk at 310-524-2728.</p><p>Please click<a href="https://www.elsegundolibrary.org/home/showdocument?id=6847&amp;t=638169060359096427" target="_blank"> HERE</a> to view the flyer.</p>
LOCATION:El Segundo Public Library\, 111 W. Mariposa Avenue El Segundo\, California 90245
CLASS:PUBLIC
END:VEVENT
END:VCALENDAR
