BEGIN:VCALENDAR
VERSION:2.0
PRODID:El Segundo Calendar Creator
METHOD:PUBLISH
BEGIN:VEVENT
DTSTAMP:20230406T143447
DTSTART:20230427T110000
DTEND:20230427T120000
SUMMARY:BINGO at the Library
DESCRIPTION:<p>Celebrate National Library Week at the El Segundo Public Library by playing<strong> Bingo</strong> at the library on Thursday, April 27<span style="font-size: 16.6667px;">&nbsp;from&nbsp;</span>11:00am until 12:00PM.&nbsp; Questions?&nbsp; Please contact the Reference Desk at 310-524-2728.&nbsp; Please click <a href="https://www.elsegundolibrary.org/home/showdocument?id=6837&amp;t=638163883386585063" target="_blank">here </a>to view the flyer.</p>
X-ALT-DESC;FMTTYPE=text/html:<p>Celebrate National Library Week at the El Segundo Public Library by playing<strong> Bingo</strong> at the library on Thursday, April 27<span style="font-size: 16.6667px;">&nbsp;from&nbsp;</span>11:00am until 12:00PM.&nbsp; Questions?&nbsp; Please contact the Reference Desk at 310-524-2728.&nbsp; Please click <a href="https://www.elsegundolibrary.org/home/showdocument?id=6837&amp;t=638163883386585063" target="_blank">here </a>to view the flyer.</p>
LOCATION:El Segundo Public Library\, 111 W. Mariposa Avenue El Segundo\, California 90245
CLASS:PUBLIC
END:VEVENT
END:VCALENDAR
